
BEGIN:VCALENDAR
VERSION:2.0
PRODID:-//JuveGolfe - ECPv6.15.20//NONSGML v1.0//EN
CALSCALE:GREGORIAN
METHOD:PUBLISH
X-ORIGINAL-URL:https://juvegolfe.pt
X-WR-CALDESC:Events for JuveGolfe
REFRESH-INTERVAL;VALUE=DURATION:PT1H
X-Robots-Tag:noindex
X-PUBLISHED-TTL:PT1H
BEGIN:VTIMEZONE
TZID:Europe/Lisbon
BEGIN:DAYLIGHT
TZOFFSETFROM:+0000
TZOFFSETTO:+0100
TZNAME:WEST
DTSTART:20250330T010000
END:DAYLIGHT
BEGIN:STANDARD
TZOFFSETFROM:+0100
TZOFFSETTO:+0000
TZNAME:WET
DTSTART:20251026T010000
END:STANDARD
BEGIN:DAYLIGHT
TZOFFSETFROM:+0000
TZOFFSETTO:+0100
TZNAME:WEST
DTSTART:20260329T010000
END:DAYLIGHT
BEGIN:STANDARD
TZOFFSETFROM:+0100
TZOFFSETTO:+0000
TZNAME:WET
DTSTART:20261025T010000
END:STANDARD
BEGIN:DAYLIGHT
TZOFFSETFROM:+0000
TZOFFSETTO:+0100
TZNAME:WEST
DTSTART:20270328T010000
END:DAYLIGHT
BEGIN:STANDARD
TZOFFSETFROM:+0100
TZOFFSETTO:+0000
TZNAME:WET
DTSTART:20271031T010000
END:STANDARD
END:VTIMEZONE
BEGIN:VEVENT
DTSTART;VALUE=DATE:20260315
DTEND;VALUE=DATE:20260501
DTSTAMP:20260422T015353
CREATED:20251227T182139Z
LAST-MODIFIED:20260420T150013Z
UID:4470-1773532800-1777593599@juvegolfe.pt
SUMMARY:GT MatchPlay Inscrição 2026
DESCRIPTION:DETALHES DA COMPETIÇÃO\n\n\n\n\nCAMPEONATO:\n\n\n\n\n\n\n\nGT Matchplay 2026\n\n\n\nDATA:\n\n\n\n19 de abril até 29 de novembro\n\n\nCAMPO:\n \n\n\nA escolha de cada jogador.\n\n\nMODALIDADE:\n \n\n\n18 Buracos – Net 75% HCP\n\n\nPARTICIPANTES:\n\n\n\nTorneio aberto a jogadores federados\, sócios e não sócios do Clube.\n\n\nPONTUAÇÃO\n\n\n\nOs Matchs realizam-se apenas até ao 18º buraco e terá as seguintes pontuações: \n●       Vitória = 2 pontos; \n●       Empate = 1 ponto; \n●       Derrota = 0 pontos.\n\n\nINSCRIÇÕES:\nAté 18 de abril às 18 horas\n\n\nFazer Inscrição (3) \nNão dispensa a leitura do Regulamento Pagamentos & Inscrições\n\n\nDRAW:\n\n\n\n1º Fase | 2º Fase | 3º Fase | Final – Taça Challenge\n\n\nTERMOS COMPETIÇÃO:\n\n\n\nConsulte Aqui\n\n\nANUIDADE:\n\n\n\n \nFull Member Juvegolfe (1)\n10€\n\n\nNão Sócio/Basic Member Juvegolfe (1)\n20€\n\n\nBuggy\nReservar com o Campo\n\n\nRESULTADOS:\n\n\n\n1º Fase | 2º Fase | 3º Fase | Final – Taça Challenge\n\n\nPRÉMIOS:\n\n\n\nClassificação GT Pares – são apurados os Campeão GT – Match Play 2026\, Vice-campeão GT Match Play 2026 e Vencedor Taça Challenge 2026. O Campeão GT – Match Play 2026 receberá um convite para participar no Royal Caribbean 2027. Prémios entregues no último GT Tour 2026. \nAs provas do Campeonato GT Matchplay não contam para o ROJ Juvegolfe.\n\n\nREGULEMTENTO:\n\n\n\nConsulte Aqui\n\n\nNOTAS:\n\n\n\n(1)   Full Member são os Membership Premium\, Plus e Classic. \n(2)    Em caso de se ultrapassar o limite de inscrições será dada prioridade às inscrições dos sócios por ordem crescente de handicap. Para não sócios do Clube a prioridade será dada aos jogadores federados por ordem de entrada da inscrição.
URL:https://juvegolfe.pt/evento/gt-tour-matchplay-2026/
LOCATION:TBA
CATEGORIES:GT - Golf Tour,GT - MatchPlay,Torneio
ATTACH;FMTTYPE=image/png:https://juvegolfe.pt/wp-content/uploads/2025/01/GTM-Golf-Tour-Logo_Quadrado.png
END:VEVENT
BEGIN:VEVENT
DTSTART;VALUE=DATE:20260425
DTEND;VALUE=DATE:20260427
DTSTAMP:20260422T015353
CREATED:20250908T042529Z
LAST-MODIFIED:20251204T123138Z
UID:4114-1777075200-1777247999@juvegolfe.pt
SUMMARY:Taça Kendall
DESCRIPTION:Página da Prova: \nAbrir
URL:https://juvegolfe.pt/evento/taca-kendall-3/
LOCATION:Oporto Golf Club\, OPORTO GOLF CLUB\, PARAMOS\, Espinho\, 4500-000\, Portugal
CATEGORIES:FPG,Provas Clubes,Torneio
ATTACH;FMTTYPE=image/jpeg:https://juvegolfe.pt/wp-content/uploads/2023/10/IMG_0019-scaled.jpeg
ORGANIZER;CN="Oporto GC":MAILTO:ogc@oportogolfclub.com
END:VEVENT
BEGIN:VEVENT
DTSTART;VALUE=DATE:20260425
DTEND;VALUE=DATE:20260428
DTSTAMP:20260422T015353
CREATED:20250908T041514Z
LAST-MODIFIED:20251204T123218Z
UID:4094-1777075200-1777334399@juvegolfe.pt
SUMMARY:Campeonato Nacional de Clubes - Seniores
DESCRIPTION:Página da Prova: \nAqui
URL:https://juvegolfe.pt/evento/campeonato-nacional-de-clubes-seniores-4/
LOCATION:Santo Estevão\, Vila Nova de Santo Estêvão\, Lote 1\, Santo Estevão\, 2130-127\, Portugal
CATEGORIES:FPG,Nacional,Torneio
ATTACH;FMTTYPE=image/png:https://juvegolfe.pt/wp-content/uploads/2023/10/IMG_0005.png
ORGANIZER;CN="FPG":MAILTO:fpg@fpg.pt
END:VEVENT
END:VCALENDAR