
BEGIN:VCALENDAR
VERSION:2.0
PRODID:-//JuveGolfe - ECPv6.15.20//NONSGML v1.0//EN
CALSCALE:GREGORIAN
METHOD:PUBLISH
X-WR-CALNAME:JuveGolfe
X-ORIGINAL-URL:https://juvegolfe.pt
X-WR-CALDESC:Events for JuveGolfe
REFRESH-INTERVAL;VALUE=DURATION:PT1H
X-Robots-Tag:noindex
X-PUBLISHED-TTL:PT1H
BEGIN:VTIMEZONE
TZID:UTC
BEGIN:STANDARD
TZOFFSETFROM:+0000
TZOFFSETTO:+0000
TZNAME:UTC
DTSTART:20220101T000000
END:STANDARD
END:VTIMEZONE
BEGIN:VEVENT
DTSTART;VALUE=DATE:20230304
DTEND;VALUE=DATE:20230306
DTSTAMP:20260425T003644
CREATED:20230404T150727Z
LAST-MODIFIED:20230404T150727Z
UID:2243-1677888000-1678060799@juvegolfe.pt
SUMMARY:Campeonato Nacional de Pares & Pares Seniores
DESCRIPTION:Informação \n  \nInscrições \n  \nData Abertura das Inscrições : 02 de Fevereiro de 2023 \nData Fecho das Inscrições: 27 de Fevereiro de 2023 às 12:00 Horas \n  \nRegras do Estatuto Amador
URL:https://juvegolfe.pt/evento/campeonato-nacional-de-pares-pares-seniores/
LOCATION:Jamor\, Centro Desportivo do Jamor\, Cruz Quebrada\, 2790-378\, Portugal
CATEGORIES:FPG,Nacional,Torneio
ORGANIZER;CN="FPG":MAILTO:fpg@fpg.pt
END:VEVENT
END:VCALENDAR