
BEGIN:VCALENDAR
VERSION:2.0
PRODID:-//JuveGolfe - ECPv6.15.20//NONSGML v1.0//EN
CALSCALE:GREGORIAN
METHOD:PUBLISH
X-ORIGINAL-URL:https://juvegolfe.pt
X-WR-CALDESC:Events for JuveGolfe
REFRESH-INTERVAL;VALUE=DURATION:PT1H
X-Robots-Tag:noindex
X-PUBLISHED-TTL:PT1H
BEGIN:VTIMEZONE
TZID:UTC
BEGIN:STANDARD
TZOFFSETFROM:+0000
TZOFFSETTO:+0000
TZNAME:UTC
DTSTART:20220101T000000
END:STANDARD
END:VTIMEZONE
BEGIN:VEVENT
DTSTART;VALUE=DATE:20230513
DTEND;VALUE=DATE:20230515
DTSTAMP:20260424T233001
CREATED:20230404T153721Z
LAST-MODIFIED:20230404T153721Z
UID:2265-1683936000-1684108799@juvegolfe.pt
SUMMARY:Campeonato Nacional de 3ª e 4ª Categorias
DESCRIPTION:Informação \n  \nInscrições \n3ª Categoria – Senhoras \n3ª Categoria – Homens \n4ª Categoria – Senhoras \n4ª Categoria – Homens \nData Abertura das Inscrições: 13 de Abril de 2023 \nData Fecho das Inscrições: 8 de Maio de 2023 às 12:00 Horas \nRegras do Estatuto Amador
URL:https://juvegolfe.pt/evento/campeonato-nacional-de-3a-e-4a-categorias/
LOCATION:Santo Estevão\, Vila Nova de Santo Estêvão\, Lote 1\, Santo Estevão\, 2130-127\, Portugal
CATEGORIES:FPG,Nacional,Torneio
ATTACH;FMTTYPE=image/png:https://juvegolfe.pt/wp-content/uploads/2023/01/DAEB0702-A71C-43CF-A28A-B143A46CA307.png
ORGANIZER;CN="FPG":MAILTO:fpg@fpg.pt
END:VEVENT
END:VCALENDAR