
BEGIN:VCALENDAR
VERSION:2.0
PRODID:-//JuveGolfe - ECPv6.15.20//NONSGML v1.0//EN
CALSCALE:GREGORIAN
METHOD:PUBLISH
X-ORIGINAL-URL:https://juvegolfe.pt
X-WR-CALDESC:Events for JuveGolfe
REFRESH-INTERVAL;VALUE=DURATION:PT1H
X-Robots-Tag:noindex
X-PUBLISHED-TTL:PT1H
BEGIN:VTIMEZONE
TZID:UTC
BEGIN:STANDARD
TZOFFSETFROM:+0000
TZOFFSETTO:+0000
TZNAME:UTC
DTSTART:20220101T000000
END:STANDARD
END:VTIMEZONE
BEGIN:VEVENT
DTSTART;VALUE=DATE:20230715
DTEND;VALUE=DATE:20230717
DTSTAMP:20260424T202246
CREATED:20230404T151902Z
LAST-MODIFIED:20230404T151902Z
UID:2254-1689379200-1689551999@juvegolfe.pt
SUMMARY:Campeonato Nacional de Seniores
DESCRIPTION:Informação \n  \nInscrições – Homens \nInscrições – Senhoras \n  \nData Abertura das Inscrições : 15 de Junho de 2023 \nData Fecho das Inscrições: 10 de Julho de 2023 às 12:00 Horas \n  \nRegras do Estatuto Amador
URL:https://juvegolfe.pt/evento/campeonato-nacional-de-seniores/
LOCATION:PGA Aroeira Nº1\, Rua das Anémonas\, Herdade da Aroeira\, Charneca da Caparica\, 2820-553
CATEGORIES:FPG,Nacional,Torneio
ATTACH;FMTTYPE=image/png:https://juvegolfe.pt/wp-content/uploads/2023/04/04DF11DC-B49A-463F-8909-5915CC5C0578.png
ORGANIZER;CN="FPG":MAILTO:fpg@fpg.pt
END:VEVENT
END:VCALENDAR