
BEGIN:VCALENDAR
VERSION:2.0
PRODID:-//JuveGolfe - ECPv6.15.20//NONSGML v1.0//EN
CALSCALE:GREGORIAN
METHOD:PUBLISH
X-ORIGINAL-URL:https://juvegolfe.pt
X-WR-CALDESC:Events for JuveGolfe
REFRESH-INTERVAL;VALUE=DURATION:PT1H
X-Robots-Tag:noindex
X-PUBLISHED-TTL:PT1H
BEGIN:VTIMEZONE
TZID:UTC
BEGIN:STANDARD
TZOFFSETFROM:+0000
TZOFFSETTO:+0000
TZNAME:UTC
DTSTART:20220101T000000
END:STANDARD
END:VTIMEZONE
BEGIN:VEVENT
DTSTART;VALUE=DATE:20230907
DTEND;VALUE=DATE:20230911
DTSTAMP:20260424T171502
CREATED:20230404T152720Z
LAST-MODIFIED:20230404T152720Z
UID:2260-1694044800-1694390399@juvegolfe.pt
SUMMARY:Campeonato Nacional de Clubes
DESCRIPTION:Informação \n  \nInscrições – Senhoras \nInscrições – Homens \nLista Inscritos \nLive Scoring Display \n  \nData Abertura das Inscrições: 05 de Agosto de 2023 \nData Fecho das Inscrições: 30 de Agosto de 2023 às 12:00 Horas \n  \nRegras do Estatuto Amador \n  \nReunião de Capitães –
URL:https://juvegolfe.pt/evento/campeonato-nacional-de-clubes/
LOCATION:Estela Golf Club\, Lugar do Rio Alto - Estela\, Póvoa de Varzim\, 4570-242\, Portugal
CATEGORIES:FPG,Nacional,Torneio
ATTACH;FMTTYPE=image/jpeg:https://juvegolfe.pt/wp-content/uploads/2023/01/60E55FA7-3DC3-45FE-80CF-5DA6AF091CC8.jpeg
ORGANIZER;CN="FPG":MAILTO:fpg@fpg.pt
END:VEVENT
END:VCALENDAR