
BEGIN:VCALENDAR
VERSION:2.0
PRODID:-//JuveGolfe - ECPv6.15.20//NONSGML v1.0//EN
CALSCALE:GREGORIAN
METHOD:PUBLISH
X-WR-CALNAME:JuveGolfe
X-ORIGINAL-URL:https://juvegolfe.pt
X-WR-CALDESC:Events for JuveGolfe
REFRESH-INTERVAL;VALUE=DURATION:PT1H
X-Robots-Tag:noindex
X-PUBLISHED-TTL:PT1H
BEGIN:VTIMEZONE
TZID:Europe/Lisbon
BEGIN:DAYLIGHT
TZOFFSETFROM:+0000
TZOFFSETTO:+0100
TZNAME:WEST
DTSTART:20230326T010000
END:DAYLIGHT
BEGIN:STANDARD
TZOFFSETFROM:+0100
TZOFFSETTO:+0000
TZNAME:WET
DTSTART:20231029T010000
END:STANDARD
BEGIN:DAYLIGHT
TZOFFSETFROM:+0000
TZOFFSETTO:+0100
TZNAME:WEST
DTSTART:20240331T010000
END:DAYLIGHT
BEGIN:STANDARD
TZOFFSETFROM:+0100
TZOFFSETTO:+0000
TZNAME:WET
DTSTART:20241027T010000
END:STANDARD
BEGIN:DAYLIGHT
TZOFFSETFROM:+0000
TZOFFSETTO:+0100
TZNAME:WEST
DTSTART:20250330T010000
END:DAYLIGHT
BEGIN:STANDARD
TZOFFSETFROM:+0100
TZOFFSETTO:+0000
TZNAME:WET
DTSTART:20251026T010000
END:STANDARD
END:VTIMEZONE
BEGIN:VEVENT
DTSTART;VALUE=DATE:20240622
DTEND;VALUE=DATE:20240624
DTSTAMP:20260424T032515
CREATED:20231025T200916Z
LAST-MODIFIED:20231025T224533Z
UID:2882-1719014400-1719187199@juvegolfe.pt
SUMMARY:CAMPEONATO NACIONAL DE SENIORES
DESCRIPTION:Detalhes\n\nInício:Junho 22\, 2024 \nFim:Junho 23\, 2024 \n\n\nCategoria de Evento:\nCampeonatos Nacionais\n\n\n\n\n\nInscrições\n\nInscrições – Homens \nInscrições – Senhoras \nData Abertura das Inscrições : \nData Fecho das Inscrições: \nRegras do Estatuto Amador
URL:https://juvegolfe.pt/evento/campeonato-nacional-de-seniores-2/
LOCATION:Oporto Golf Club\, OPORTO GOLF CLUB\, PARAMOS\, Espinho\, 4500-000\, Portugal
CATEGORIES:FPG,Nacional,Senior,Torneio
ATTACH;FMTTYPE=image/png:https://juvegolfe.pt/wp-content/uploads/2023/04/04DF11DC-B49A-463F-8909-5915CC5C0578.png
ORGANIZER;CN="FPG":MAILTO:fpg@fpg.pt
END:VEVENT
END:VCALENDAR